BEGIN:VCALENDAR
VERSION:2.0
PRODID:-//Herzkind e.V. - ECPv6.15.20//NONSGML v1.0//EN
CALSCALE:GREGORIAN
METHOD:PUBLISH
X-WR-CALNAME:Herzkind e.V.
X-ORIGINAL-URL:https://www.herzkind.de
X-WR-CALDESC:Veranstaltungen für Herzkind e.V.
REFRESH-INTERVAL;VALUE=DURATION:PT1H
X-Robots-Tag:noindex
X-PUBLISHED-TTL:PT1H
BEGIN:VTIMEZONE
TZID:Europe/Berlin
BEGIN:DAYLIGHT
TZOFFSETFROM:+0100
TZOFFSETTO:+0200
TZNAME:CEST
DTSTART:20200329T010000
END:DAYLIGHT
BEGIN:STANDARD
TZOFFSETFROM:+0200
TZOFFSETTO:+0100
TZNAME:CET
DTSTART:20201025T010000
END:STANDARD
BEGIN:DAYLIGHT
TZOFFSETFROM:+0100
TZOFFSETTO:+0200
TZNAME:CEST
DTSTART:20210328T010000
END:DAYLIGHT
BEGIN:STANDARD
TZOFFSETFROM:+0200
TZOFFSETTO:+0100
TZNAME:CET
DTSTART:20211031T010000
END:STANDARD
BEGIN:DAYLIGHT
TZOFFSETFROM:+0100
TZOFFSETTO:+0200
TZNAME:CEST
DTSTART:20220327T010000
END:DAYLIGHT
BEGIN:STANDARD
TZOFFSETFROM:+0200
TZOFFSETTO:+0100
TZNAME:CET
DTSTART:20221030T010000
END:STANDARD
END:VTIMEZONE
BEGIN:VEVENT
DTSTART;TZID=Europe/Berlin:20210618T080000
DTEND;TZID=Europe/Berlin:20210618T170000
DTSTAMP:20260423T224743
CREATED:20210618T120648Z
LAST-MODIFIED:20210618T121145Z
UID:1946-1624003200-1624035600@www.herzkind.de
SUMMARY:Jemah e.V. - Regionlgruppe Bayern - Absage für Treffen am Samstag\, den 19.06.2021
DESCRIPTION:Liebe Mitglieder und Interessierte\, \nda ein Kollege von mir überraschend verstorben ist und die Beerdigung am Samstag stattfindet muss ich leider das Regionaltreffen für Samstag absagen. \nZurzeit haben wir noch keinen Ersatztermin. Evtl. findet Ende Juli noch ein Onlinetreffen zum gegenseitigen Austauschen statt. Das Thema „(seelische) Gesundheit mit GESUND und Märchen“ wird spätestens im nächsten Jahr nachgeholt. \n  \nHERZliche Grüße \nKarin Hauenstein
URL:https://www.herzkind.de/termin/jemah-e-v-absage-fuer-unser-treffen-am-samstag-den-19-06-2021/
END:VEVENT
END:VCALENDAR