BEGIN:VCALENDAR
VERSION:2.0
PRODID:-//Herzkind e.V. - ECPv6.15.20//NONSGML v1.0//EN
CALSCALE:GREGORIAN
METHOD:PUBLISH
X-ORIGINAL-URL:https://www.herzkind.de
X-WR-CALDESC:Veranstaltungen für Herzkind e.V.
REFRESH-INTERVAL;VALUE=DURATION:PT1H
X-Robots-Tag:noindex
X-PUBLISHED-TTL:PT1H
BEGIN:VTIMEZONE
TZID:Europe/Berlin
BEGIN:DAYLIGHT
TZOFFSETFROM:+0100
TZOFFSETTO:+0200
TZNAME:CEST
DTSTART:20190331T010000
END:DAYLIGHT
BEGIN:STANDARD
TZOFFSETFROM:+0200
TZOFFSETTO:+0100
TZNAME:CET
DTSTART:20191027T010000
END:STANDARD
BEGIN:DAYLIGHT
TZOFFSETFROM:+0100
TZOFFSETTO:+0200
TZNAME:CEST
DTSTART:20200329T010000
END:DAYLIGHT
BEGIN:STANDARD
TZOFFSETFROM:+0200
TZOFFSETTO:+0100
TZNAME:CET
DTSTART:20201025T010000
END:STANDARD
BEGIN:DAYLIGHT
TZOFFSETFROM:+0100
TZOFFSETTO:+0200
TZNAME:CEST
DTSTART:20210328T010000
END:DAYLIGHT
BEGIN:STANDARD
TZOFFSETFROM:+0200
TZOFFSETTO:+0100
TZNAME:CET
DTSTART:20211031T010000
END:STANDARD
END:VTIMEZONE
BEGIN:VEVENT
DTSTART;VALUE=DATE:20200710
DTEND;VALUE=DATE:20200720
DTSTAMP:20260425T190314
CREATED:20200303T100844Z
LAST-MODIFIED:20200310T134635Z
UID:193-1594339200-1595203199@www.herzkind.de
SUMMARY:Segeltörn der Kinderherzstiftung
DESCRIPTION:Segeltörn im Ijsselmeer. \nSegeltörn der Kinderherzstiftung. \nSegeltörn für Herzkinder ab 14 Jahre. \nWeitere Informationen Tel. 069/955128145\, www.kinderherzstiftung.de.
URL:https://www.herzkind.de/termin/segeltoern-der-kinderherzstiftung/
CATEGORIES:Allgemein
END:VEVENT
BEGIN:VEVENT
DTSTART;TZID=Europe/Berlin:20200713T163000
DTEND;TZID=Europe/Berlin:20200713T180000
DTSTAMP:20260425T190314
CREATED:20200303T100954Z
LAST-MODIFIED:20200310T134639Z
UID:195-1594657800-1594663200@www.herzkind.de
SUMMARY:Jemah e.V. Stammtisch Regionalgruppe Sachsen
DESCRIPTION:Herzzentrum Leipzig\, Strümpellstr. 39\, 04289 Leipzig \nWeitere Informationen sachsen@jemah.de oder https://www.jemah.de/termine/
URL:https://www.herzkind.de/termin/jemah-e-v-stammtisch-regionalgruppe-sachsen-3/
CATEGORIES:Allgemein
END:VEVENT
END:VCALENDAR