BEGIN:VCALENDAR
VERSION:2.0
PRODID:-//Herzkind e.V. - ECPv6.15.20//NONSGML v1.0//EN
CALSCALE:GREGORIAN
METHOD:PUBLISH
X-WR-CALNAME:Herzkind e.V.
X-ORIGINAL-URL:https://www.herzkind.de
X-WR-CALDESC:Veranstaltungen für Herzkind e.V.
REFRESH-INTERVAL;VALUE=DURATION:PT1H
X-Robots-Tag:noindex
X-PUBLISHED-TTL:PT1H
BEGIN:VTIMEZONE
TZID:Europe/Berlin
BEGIN:DAYLIGHT
TZOFFSETFROM:+0100
TZOFFSETTO:+0200
TZNAME:CEST
DTSTART:20190331T010000
END:DAYLIGHT
BEGIN:STANDARD
TZOFFSETFROM:+0200
TZOFFSETTO:+0100
TZNAME:CET
DTSTART:20191027T010000
END:STANDARD
BEGIN:DAYLIGHT
TZOFFSETFROM:+0100
TZOFFSETTO:+0200
TZNAME:CEST
DTSTART:20200329T010000
END:DAYLIGHT
BEGIN:STANDARD
TZOFFSETFROM:+0200
TZOFFSETTO:+0100
TZNAME:CET
DTSTART:20201025T010000
END:STANDARD
BEGIN:DAYLIGHT
TZOFFSETFROM:+0100
TZOFFSETTO:+0200
TZNAME:CEST
DTSTART:20210328T010000
END:DAYLIGHT
BEGIN:STANDARD
TZOFFSETFROM:+0200
TZOFFSETTO:+0100
TZNAME:CET
DTSTART:20211031T010000
END:STANDARD
END:VTIMEZONE
BEGIN:VEVENT
DTSTART;VALUE=DATE:20200611
DTEND;VALUE=DATE:20200615
DTSTAMP:20260425T144903
CREATED:20200303T100317Z
LAST-MODIFIED:20200310T134616Z
UID:183-1591833600-1592179199@www.herzkind.de
SUMMARY:Sommercamp für Jugendliche\, BVHK
DESCRIPTION:Sommercamp für Jungendliche ab 16 Jahren  im Lindenhof Gackenbach \nWeitere Infos und Anmeldung: https://www.bvhk.de/veranstaltungen/jugendliche-sport/sommercamp2020/
URL:https://www.herzkind.de/termin/sommercamp-fuer-jugendliche-bvhk/
CATEGORIES:Allgemein
END:VEVENT
BEGIN:VEVENT
DTSTART;VALUE=DATE:20200613
DTEND;VALUE=DATE:20200614
DTSTAMP:20260425T144903
CREATED:20200303T100401Z
LAST-MODIFIED:20200310T134620Z
UID:185-1592006400-1592092799@www.herzkind.de
SUMMARY:Jemah e.V. Regionalgruppe Berlin-Brandenburg
DESCRIPTION:Sommerfest \nWeitere Informationen berlin-brandenburg@jemah.de oder https://www.jemah.de/termine/
URL:https://www.herzkind.de/termin/jemah-e-v-regionalgruppe-berlin-brandenburg-2/
CATEGORIES:Allgemein
END:VEVENT
END:VCALENDAR