BEGIN:VCALENDAR
VERSION:2.0
PRODID:-//Herzkind e.V. - ECPv6.15.20//NONSGML v1.0//EN
CALSCALE:GREGORIAN
METHOD:PUBLISH
X-WR-CALNAME:Herzkind e.V.
X-ORIGINAL-URL:https://www.herzkind.de
X-WR-CALDESC:Veranstaltungen für Herzkind e.V.
REFRESH-INTERVAL;VALUE=DURATION:PT1H
X-Robots-Tag:noindex
X-PUBLISHED-TTL:PT1H
BEGIN:VTIMEZONE
TZID:Europe/Berlin
BEGIN:DAYLIGHT
TZOFFSETFROM:+0100
TZOFFSETTO:+0200
TZNAME:CEST
DTSTART:20190331T010000
END:DAYLIGHT
BEGIN:STANDARD
TZOFFSETFROM:+0200
TZOFFSETTO:+0100
TZNAME:CET
DTSTART:20191027T010000
END:STANDARD
BEGIN:DAYLIGHT
TZOFFSETFROM:+0100
TZOFFSETTO:+0200
TZNAME:CEST
DTSTART:20200329T010000
END:DAYLIGHT
BEGIN:STANDARD
TZOFFSETFROM:+0200
TZOFFSETTO:+0100
TZNAME:CET
DTSTART:20201025T010000
END:STANDARD
BEGIN:DAYLIGHT
TZOFFSETFROM:+0100
TZOFFSETTO:+0200
TZNAME:CEST
DTSTART:20210328T010000
END:DAYLIGHT
BEGIN:STANDARD
TZOFFSETFROM:+0200
TZOFFSETTO:+0100
TZNAME:CET
DTSTART:20211031T010000
END:STANDARD
END:VTIMEZONE
BEGIN:VEVENT
DTSTART;VALUE=DATE:20200521
DTEND;VALUE=DATE:20200525
DTSTAMP:20260425T172955
CREATED:20200303T094919Z
LAST-MODIFIED:20200310T134552Z
UID:168-1590019200-1590364799@www.herzkind.de
SUMMARY:Familienwochenende Rudenberg / Titisee BVHK
DESCRIPTION:Familienwochenende des BVHK in Rudenberg / Titisee \nFamilienwochenende des BVHK mit dem „ganz besonderen Schwimmunterricht“ für Herzkranke Kinder und einem umfangreichen sowie informativen Programm. \nWeitere Informationen und Anmeldungen beim BVHK\, Tel. 0241-912332\, www.bvhk.de. 
URL:https://www.herzkind.de/termin/familienwochenende-rudenberg-titisee-bvhk/
CATEGORIES:Allgemein
END:VEVENT
BEGIN:VEVENT
DTSTART;VALUE=DATE:20200521
DTEND;VALUE=DATE:20200525
DTSTAMP:20260425T172955
CREATED:20200303T095043Z
LAST-MODIFIED:20200310T134559Z
UID:170-1590019200-1590364799@www.herzkind.de
SUMMARY:Familienfreizeit im Kolping-Feriendof Kinderherzstiftung
DESCRIPTION:Weitere Informationen und Anmeldungen unter: Tel.: 069-955128 oder www.kinderherzstiftung.de
URL:https://www.herzkind.de/termin/familienfreizeit-im-kolping-feriendof-kinderherzstiftung/
CATEGORIES:Allgemein
END:VEVENT
END:VCALENDAR