BEGIN:VCALENDAR
VERSION:2.0
PRODID:-//Herzkind e.V. - ECPv6.15.20//NONSGML v1.0//EN
CALSCALE:GREGORIAN
METHOD:PUBLISH
X-ORIGINAL-URL:https://www.herzkind.de
X-WR-CALDESC:Veranstaltungen für Herzkind e.V.
REFRESH-INTERVAL;VALUE=DURATION:PT1H
X-Robots-Tag:noindex
X-PUBLISHED-TTL:PT1H
BEGIN:VTIMEZONE
TZID:Europe/Berlin
BEGIN:DAYLIGHT
TZOFFSETFROM:+0100
TZOFFSETTO:+0200
TZNAME:CEST
DTSTART:20190331T010000
END:DAYLIGHT
BEGIN:STANDARD
TZOFFSETFROM:+0200
TZOFFSETTO:+0100
TZNAME:CET
DTSTART:20191027T010000
END:STANDARD
BEGIN:DAYLIGHT
TZOFFSETFROM:+0100
TZOFFSETTO:+0200
TZNAME:CEST
DTSTART:20200329T010000
END:DAYLIGHT
BEGIN:STANDARD
TZOFFSETFROM:+0200
TZOFFSETTO:+0100
TZNAME:CET
DTSTART:20201025T010000
END:STANDARD
BEGIN:DAYLIGHT
TZOFFSETFROM:+0100
TZOFFSETTO:+0200
TZNAME:CEST
DTSTART:20210328T010000
END:DAYLIGHT
BEGIN:STANDARD
TZOFFSETFROM:+0200
TZOFFSETTO:+0100
TZNAME:CET
DTSTART:20211031T010000
END:STANDARD
END:VTIMEZONE
BEGIN:VEVENT
DTSTART;TZID=Europe/Berlin:20200511T163000
DTEND;TZID=Europe/Berlin:20200511T180000
DTSTAMP:20260425T203602
CREATED:20200303T093750Z
LAST-MODIFIED:20200310T134545Z
UID:162-1589214600-1589220000@www.herzkind.de
SUMMARY:Jemah e.V. - Stammtisch Regionalgruppe Sachsen
DESCRIPTION:Herzzentrum Leipzig\, Strümpellstr. 39\, 04289 Leipzig \nWeitere Informationen sachsen@jemah.de oder https://www.jemah.de/termine/
URL:https://www.herzkind.de/termin/jemah-e-v-stammtisch-regionalgruppe-sachsen-2/
CATEGORIES:Allgemein
END:VEVENT
BEGIN:VEVENT
DTSTART;TZID=Europe/Berlin:20200511T170000
DTEND;TZID=Europe/Berlin:20200511T200000
DTSTAMP:20260425T203602
CREATED:20200303T093957Z
LAST-MODIFIED:20200310T134548Z
UID:164-1589216400-1589227200@www.herzkind.de
SUMMARY:Jemah e.V. Themen-Stammtisch Regionalgruppe Berlin-Brandenburg
DESCRIPTION:Thema: Fallotsche Tetralogie und andere Herzerkrankungen. Zu Gast ist Dr. Frederike Danne\, Oberärztin der Ambulanz für angeborene Herzfehler vom Deutschen Herzzentrum Berlin \n17:00 – 20:00 Uhr in Bremer Höhle\, Buchholzer Str. 16\, 10437 Berlin \nWeitere Informationen berlin-brandenburg@jemah.de oder https://www.jemah.de/termine/
URL:https://www.herzkind.de/termin/jemah-e-v-themen-stammtisch-regionalgruppe-berlin-brandenburg/
CATEGORIES:Allgemein
END:VEVENT
END:VCALENDAR