BEGIN:VCALENDAR
VERSION:2.0
PRODID:-//Herzkind e.V. - ECPv6.15.20//NONSGML v1.0//EN
CALSCALE:GREGORIAN
METHOD:PUBLISH
X-WR-CALNAME:Herzkind e.V.
X-ORIGINAL-URL:https://www.herzkind.de
X-WR-CALDESC:Veranstaltungen für Herzkind e.V.
REFRESH-INTERVAL;VALUE=DURATION:PT1H
X-Robots-Tag:noindex
X-PUBLISHED-TTL:PT1H
BEGIN:VTIMEZONE
TZID:Europe/Berlin
BEGIN:DAYLIGHT
TZOFFSETFROM:+0100
TZOFFSETTO:+0200
TZNAME:CEST
DTSTART:20190331T010000
END:DAYLIGHT
BEGIN:STANDARD
TZOFFSETFROM:+0200
TZOFFSETTO:+0100
TZNAME:CET
DTSTART:20191027T010000
END:STANDARD
BEGIN:DAYLIGHT
TZOFFSETFROM:+0100
TZOFFSETTO:+0200
TZNAME:CEST
DTSTART:20200329T010000
END:DAYLIGHT
BEGIN:STANDARD
TZOFFSETFROM:+0200
TZOFFSETTO:+0100
TZNAME:CET
DTSTART:20201025T010000
END:STANDARD
BEGIN:DAYLIGHT
TZOFFSETFROM:+0100
TZOFFSETTO:+0200
TZNAME:CEST
DTSTART:20210328T010000
END:DAYLIGHT
BEGIN:STANDARD
TZOFFSETFROM:+0200
TZOFFSETTO:+0100
TZNAME:CET
DTSTART:20211031T010000
END:STANDARD
END:VTIMEZONE
BEGIN:VEVENT
DTSTART;VALUE=DATE:20200501
DTEND;VALUE=DATE:20200504
DTSTAMP:20260426T013954
CREATED:20200303T093351Z
LAST-MODIFIED:20200310T134535Z
UID:156-1588291200-1588550399@www.herzkind.de
SUMMARY:Grundseminar Elterncoaching BVHK
DESCRIPTION:Elterncoaching – Grundseminar – Seminar des BVHK im Irmengard-Hof Gstadt / Chiemsee \nEin ermutigendes Wochenende zum Auftanken und Dazulernen. Während des Coachings werden Ihre Kinder ab ca. 3 Jahren betreut. \nweitere Informationen und Anmeldungen beim BVHK\, Tel. 0241-912332\, www.bvhk.de.
URL:https://www.herzkind.de/termin/grundseminar-elterncoaching-bvhk/
CATEGORIES:Allgemein
END:VEVENT
BEGIN:VEVENT
DTSTART;TZID=Europe/Berlin:20200502T140000
DTEND;TZID=Europe/Berlin:20200502T160000
DTSTAMP:20260426T013954
CREATED:20200303T093448Z
LAST-MODIFIED:20200310T134538Z
UID:158-1588428000-1588435200@www.herzkind.de
SUMMARY:Jemah e.V. Stammtisch Regionalgruppe Niedersachsen
DESCRIPTION:14:00 – 16:00 Uhr in den Räumen der kardiologischen Ambulanz der MH Hannover\, Carl-Neuberg-Str. 1 \nWeitere Informationen: Niedersachsen@jemah.de oder https://www.jemah.de/termine/
URL:https://www.herzkind.de/termin/jemah-e-v-stammtisch-regionalgruppe-niedersachsen/
CATEGORIES:Allgemein
END:VEVENT
END:VCALENDAR