BEGIN:VCALENDAR
VERSION:2.0
PRODID:-//Herzkind e.V. - ECPv6.15.20//NONSGML v1.0//EN
CALSCALE:GREGORIAN
METHOD:PUBLISH
X-WR-CALNAME:Herzkind e.V.
X-ORIGINAL-URL:https://www.herzkind.de
X-WR-CALDESC:Veranstaltungen für Herzkind e.V.
REFRESH-INTERVAL;VALUE=DURATION:PT1H
X-Robots-Tag:noindex
X-PUBLISHED-TTL:PT1H
BEGIN:VTIMEZONE
TZID:Europe/Berlin
BEGIN:DAYLIGHT
TZOFFSETFROM:+0100
TZOFFSETTO:+0200
TZNAME:CEST
DTSTART:20190331T010000
END:DAYLIGHT
BEGIN:STANDARD
TZOFFSETFROM:+0200
TZOFFSETTO:+0100
TZNAME:CET
DTSTART:20191027T010000
END:STANDARD
BEGIN:DAYLIGHT
TZOFFSETFROM:+0100
TZOFFSETTO:+0200
TZNAME:CEST
DTSTART:20200329T010000
END:DAYLIGHT
BEGIN:STANDARD
TZOFFSETFROM:+0200
TZOFFSETTO:+0100
TZNAME:CET
DTSTART:20201025T010000
END:STANDARD
BEGIN:DAYLIGHT
TZOFFSETFROM:+0100
TZOFFSETTO:+0200
TZNAME:CEST
DTSTART:20210328T010000
END:DAYLIGHT
BEGIN:STANDARD
TZOFFSETFROM:+0200
TZOFFSETTO:+0100
TZNAME:CET
DTSTART:20211031T010000
END:STANDARD
END:VTIMEZONE
BEGIN:VEVENT
DTSTART;TZID=Europe/Berlin:20200404T140000
DTEND;TZID=Europe/Berlin:20200404T160000
DTSTAMP:20260425T201651
CREATED:20200303T092603Z
LAST-MODIFIED:20200310T134518Z
UID:146-1586008800-1586016000@www.herzkind.de
SUMMARY:Jemah e.V. Stammtisch Regionalgrupe Niedersachsen
DESCRIPTION:14.00 -16.00 Uhr in den Räumen der kadrionlogischen Ambulanz der MH Hannover\, Cral-Neuberg-Str. 1 \nWeitere Informationen Niedersachsen@jemah.de oder https://www.jemah.de/termine/
URL:https://www.herzkind.de/termin/jemah-e-v-stammtisch-regionalgrupe-niedersachsen/
CATEGORIES:Allgemein
END:VEVENT
END:VCALENDAR