BEGIN:VCALENDAR
VERSION:2.0
PRODID:-//Herzkind e.V. - ECPv6.15.20//NONSGML v1.0//EN
CALSCALE:GREGORIAN
METHOD:PUBLISH
X-WR-CALNAME:Herzkind e.V.
X-ORIGINAL-URL:https://www.herzkind.de
X-WR-CALDESC:Veranstaltungen für Herzkind e.V.
REFRESH-INTERVAL;VALUE=DURATION:PT1H
X-Robots-Tag:noindex
X-PUBLISHED-TTL:PT1H
BEGIN:VTIMEZONE
TZID:Europe/Berlin
BEGIN:DAYLIGHT
TZOFFSETFROM:+0100
TZOFFSETTO:+0200
TZNAME:CEST
DTSTART:20190331T010000
END:DAYLIGHT
BEGIN:STANDARD
TZOFFSETFROM:+0200
TZOFFSETTO:+0100
TZNAME:CET
DTSTART:20191027T010000
END:STANDARD
BEGIN:DAYLIGHT
TZOFFSETFROM:+0100
TZOFFSETTO:+0200
TZNAME:CEST
DTSTART:20200329T010000
END:DAYLIGHT
BEGIN:STANDARD
TZOFFSETFROM:+0200
TZOFFSETTO:+0100
TZNAME:CET
DTSTART:20201025T010000
END:STANDARD
BEGIN:DAYLIGHT
TZOFFSETFROM:+0100
TZOFFSETTO:+0200
TZNAME:CEST
DTSTART:20210328T010000
END:DAYLIGHT
BEGIN:STANDARD
TZOFFSETFROM:+0200
TZOFFSETTO:+0100
TZNAME:CET
DTSTART:20211031T010000
END:STANDARD
END:VTIMEZONE
BEGIN:VEVENT
DTSTART;VALUE=DATE:20200309
DTEND;VALUE=DATE:20200310
DTSTAMP:20260425T214527
CREATED:20200303T085929Z
LAST-MODIFIED:20200310T134457Z
UID:126-1583712000-1583798399@www.herzkind.de
SUMMARY:Jemah e.V. Stammtisch Regionalgruppe Berlin-Brandenburg
DESCRIPTION:Bremer Höhle\, Buchholzer Str. 16\, 10437 Berlin \nWeitere Informationen berlin-brandenburg@jemah.de oder https://www.jemah.de/termine/
URL:https://www.herzkind.de/termin/jemah-e-v-stammtisch-regionalgruppe-berlin-brandenburg/
CATEGORIES:Allgemein
END:VEVENT
BEGIN:VEVENT
DTSTART;TZID=Europe/Berlin:20200309T163000
DTEND;TZID=Europe/Berlin:20200309T180000
DTSTAMP:20260425T214527
CREATED:20200303T085859Z
LAST-MODIFIED:20200310T134502Z
UID:124-1583771400-1583776800@www.herzkind.de
SUMMARY:Jemah e.V. - Stammtisch Regionalgruppe Sachsen
DESCRIPTION:Herzzentrum Leipzig\, Strümpellstr. 39\, 04289 Leipzig \nWeitere Informationen sachsen@jemah.de oder https://www.jemah.de/termine/
URL:https://www.herzkind.de/termin/jemah-e-v-stammtisch-regionalgruppe-sachsen/
CATEGORIES:Allgemein
END:VEVENT
END:VCALENDAR