BEGIN:VCALENDAR
VERSION:2.0
PRODID:-//Herzkind e.V. - ECPv6.15.20//NONSGML v1.0//EN
CALSCALE:GREGORIAN
METHOD:PUBLISH
X-ORIGINAL-URL:https://www.herzkind.de
X-WR-CALDESC:Veranstaltungen für Herzkind e.V.
REFRESH-INTERVAL;VALUE=DURATION:PT1H
X-Robots-Tag:noindex
X-PUBLISHED-TTL:PT1H
BEGIN:VTIMEZONE
TZID:Europe/Berlin
BEGIN:DAYLIGHT
TZOFFSETFROM:+0100
TZOFFSETTO:+0200
TZNAME:CEST
DTSTART:20190331T010000
END:DAYLIGHT
BEGIN:STANDARD
TZOFFSETFROM:+0200
TZOFFSETTO:+0100
TZNAME:CET
DTSTART:20191027T010000
END:STANDARD
BEGIN:DAYLIGHT
TZOFFSETFROM:+0100
TZOFFSETTO:+0200
TZNAME:CEST
DTSTART:20200329T010000
END:DAYLIGHT
BEGIN:STANDARD
TZOFFSETFROM:+0200
TZOFFSETTO:+0100
TZNAME:CET
DTSTART:20201025T010000
END:STANDARD
BEGIN:DAYLIGHT
TZOFFSETFROM:+0100
TZOFFSETTO:+0200
TZNAME:CEST
DTSTART:20210328T010000
END:DAYLIGHT
BEGIN:STANDARD
TZOFFSETFROM:+0200
TZOFFSETTO:+0100
TZNAME:CET
DTSTART:20211031T010000
END:STANDARD
END:VTIMEZONE
BEGIN:VEVENT
DTSTART;VALUE=DATE:20200306
DTEND;VALUE=DATE:20200309
DTSTAMP:20260425T190034
CREATED:20200303T085617Z
LAST-MODIFIED:20200310T134445Z
UID:118-1583452800-1583711999@www.herzkind.de
SUMMARY:Elterncoaching Schönau BVHK
DESCRIPTION:Elterncoaching für Einsteiger und Fortgeschrittene in Schönau / Südpfalz \nEin ermutigendes Wochenende für die ganze Familie zum Auftanken und Dazulernen. Während des Coachings werden Ihre Kinder ab ca. 3 Jahren betreut. \nweitere Informationen und Anmeldungen beim BVHK\, Tel. 0241-912332\, www.bvhk.de.
URL:https://www.herzkind.de/termin/elterncoaching-schoenau-bvhk/
CATEGORIES:Allgemein
END:VEVENT
BEGIN:VEVENT
DTSTART;TZID=Europe/Berlin:20200307T140000
DTEND;TZID=Europe/Berlin:20200307T160000
DTSTAMP:20260425T190034
CREATED:20200303T085725Z
LAST-MODIFIED:20200310T134449Z
UID:120-1583589600-1583596800@www.herzkind.de
SUMMARY:Jemah e.V. Stammtisch Regionalgruppe Niedersachen
DESCRIPTION:In den Räumen der kardiologischen Ambulanz der MH Hannover\, Carl-Neuberg-Str. 1 von 14:00 – 16:00 Uhr \nWeitere Informationen Niedersachsen@jemah.de oder https://www.jemah.de/termine/
URL:https://www.herzkind.de/termin/jemah-e-v-stammtisch-regionalgruppe-niedersachen/
CATEGORIES:Allgemein
END:VEVENT
BEGIN:VEVENT
DTSTART;TZID=Europe/Berlin:20200307T150000
DTEND;TZID=Europe/Berlin:20200307T180000
DTSTAMP:20260425T190034
CREATED:20200303T085815Z
LAST-MODIFIED:20200310T134453Z
UID:122-1583593200-1583604000@www.herzkind.de
SUMMARY:Jemah e.V. Regionalgruppe Hessen
DESCRIPTION:Spaziergang und Restaurantbesuch in Seligenstadt. \nWeitere Informationen: Hessen@jemah.de oder https://www.jemah.de/termine/
URL:https://www.herzkind.de/termin/jemah-e-v-regionalgruppe-hessen/
CATEGORIES:Allgemein
END:VEVENT
END:VCALENDAR